BEGIN:VCALENDAR
VERSION:2.0
PRODID:-//Cast Schools - ECPv6.15.17.1//NONSGML v1.0//EN
CALSCALE:GREGORIAN
METHOD:PUBLISH
X-WR-CALNAME:Cast Schools
X-ORIGINAL-URL:https://castschools.com
X-WR-CALDESC:Events for Cast Schools
REFRESH-INTERVAL;VALUE=DURATION:PT1H
X-Robots-Tag:noindex
X-PUBLISHED-TTL:PT1H
BEGIN:VTIMEZONE
TZID:UTC
BEGIN:STANDARD
TZOFFSETFROM:+0000
TZOFFSETTO:+0000
TZNAME:UTC
DTSTART:20210101T000000
END:STANDARD
END:VTIMEZONE
BEGIN:VEVENT
DTSTART;TZID=UTC:20220526T183300
DTEND;TZID=UTC:20220526T183300
DTSTAMP:20260423T181449
CREATED:20250805T050429Z
LAST-MODIFIED:20250805T050429Z
UID:2862-1653589980-1653589980@castschools.com
SUMMARY:CAST STEM Graduation Ceremony
DESCRIPTION:Join us as we celebrate the CAST STEM graduating class of 2022\nWhen: Friday\, June 3 at 10:00am \nWhere: Alamodome \nWatch the Livestream: https://youtu.be/4zj8oPE3lWo
URL:https://castschools.com/calendar/cast-stem-graduation-ceremony/
END:VEVENT
BEGIN:VEVENT
DTSTART;TZID=UTC:20220526T173700
DTEND;TZID=UTC:20220526T173700
DTSTAMP:20260423T181449
CREATED:20250805T050427Z
LAST-MODIFIED:20250805T050427Z
UID:2861-1653586620-1653586620@castschools.com
SUMMARY:CAST Tech Graduation Ceremony
DESCRIPTION:Join us as we celebrate the CAST Tech graduating class of 2022\nWhen: Wednesday\, June 1 at 8:00pm \nWhere: Alamo Stadium \nWatch on livestream: https://youtu.be/OnET7YIw8Yw
URL:https://castschools.com/calendar/cast-tech-graduation-ceremony/
END:VEVENT
BEGIN:VEVENT
DTSTART;TZID=UTC:20220526T172800
DTEND;TZID=UTC:20220526T172800
DTSTAMP:20260423T181449
CREATED:20250805T050425Z
LAST-MODIFIED:20250805T050425Z
UID:2860-1653586080-1653586080@castschools.com
SUMMARY:Advanced Learning Academy Graduation Ceremony
DESCRIPTION:Join us as we celebrate the ALA graduating class of 2022\nWhen: Thursday\, June 2 at 8:00pm \nWhere: Alamo Stadium \nWatch on livestream: https://youtu.be/TkT4pEImhR8  \n 
URL:https://castschools.com/calendar/advanced-learning-academy-graduation-ceremony/
END:VEVENT
BEGIN:VEVENT
DTSTART;TZID=UTC:20220524T045500
DTEND;TZID=UTC:20220524T045500
DTSTAMP:20260423T181449
CREATED:20250805T050422Z
LAST-MODIFIED:20250805T050422Z
UID:2859-1653368100-1653368100@castschools.com
SUMMARY:CAST Schools Summer Studio
DESCRIPTION:Monday\, July 18\, 2022 – Friday\, July 22\, 2022Texas A&M University -San Antonio\n\n\n\n\nJoin new students from across the CAST Schools Network in Summer Studio with SAY Sí. Multidisciplinary Artists from SAY Sí and CAST teachers combine forces to create safe creative spaces for students to spend the week having fun\, making connections\, and reflecting through the arts. Studios will work through projects in two of the four studios SAY Sí is known for: visual arts\, performing/theatre arts\, film and photography\, and digital arts. \n[maxbutton id=”6″ url=”https://castschools.com/cast-schools-summer-studio/” text=”Register Here” ] \n\nSpace is limited. A completed field trip permission slip and other required forms from your school district and Texas A&M-San Antonio are required to secure your spot. For more details\, contact your school or email us at info@castschools.com.
URL:https://castschools.com/calendar/cast-schools-summer-studio-2/
END:VEVENT
BEGIN:VEVENT
DTSTART;TZID=UTC:20220523T233200
DTEND;TZID=UTC:20220523T233200
DTSTAMP:20260423T181449
CREATED:20250805T050417Z
LAST-MODIFIED:20250805T050417Z
UID:2857-1653348720-1653348720@castschools.com
SUMMARY:Romeo and Juliet
DESCRIPTION:The Advanced Learning Academy and CAST Tech Theater Present: \nRomeo and Juliet\nLive from the ALA/CAST Tech Theater \n[maxbutton id=”5″ url=”https://castschools.com/ala-cast-tech-romeo-and-juliet/” ]
URL:https://castschools.com/calendar/romeo-and-juliet-5/
END:VEVENT
BEGIN:VEVENT
DTSTART;TZID=UTC:20220523T233200
DTEND;TZID=UTC:20220523T233200
DTSTAMP:20260423T181449
CREATED:20250805T050416Z
LAST-MODIFIED:20250805T050416Z
UID:2856-1653348720-1653348720@castschools.com
SUMMARY:Romeo and Juliet
DESCRIPTION:The Advanced Learning Academy and CAST Tech Theater Present: \nRomeo and Juliet\nLive from the ALA/CAST Tech Theater \n[maxbutton id=”5″ url=”https://castschools.com/ala-cast-tech-romeo-and-juliet/” ]
URL:https://castschools.com/calendar/romeo-and-juliet-4/
END:VEVENT
BEGIN:VEVENT
DTSTART;TZID=UTC:20220523T233200
DTEND;TZID=UTC:20220523T233200
DTSTAMP:20260423T181449
CREATED:20250805T050415Z
LAST-MODIFIED:20250805T050415Z
UID:2855-1653348720-1653348720@castschools.com
SUMMARY:Romeo and Juliet
DESCRIPTION:The Advanced Learning Academy and CAST Tech Theater Present: \nRomeo and Juliet\nLive from the ALA/CAST Tech Theater \n[maxbutton id=”5″ url=”https://castschools.com/ala-cast-tech-romeo-and-juliet/” ]
URL:https://castschools.com/calendar/romeo-and-juliet-3/
END:VEVENT
BEGIN:VEVENT
DTSTART;TZID=UTC:20220523T233200
DTEND;TZID=UTC:20220523T233200
DTSTAMP:20260423T181449
CREATED:20250805T050414Z
LAST-MODIFIED:20250805T050414Z
UID:2854-1653348720-1653348720@castschools.com
SUMMARY:Romeo and Juliet
DESCRIPTION:The Advanced Learning Academy and CAST Tech Theater Present: \nRomeo and Juliet\nLive from the ALA/CAST Tech Theater \n[maxbutton id=”5″ url=”https://castschools.com/ala-cast-tech-romeo-and-juliet/” ]
URL:https://castschools.com/calendar/romeo-and-juliet-2/
END:VEVENT
BEGIN:VEVENT
DTSTART;TZID=UTC:20220523T233200
DTEND;TZID=UTC:20220523T233200
DTSTAMP:20260423T181449
CREATED:20250805T050404Z
LAST-MODIFIED:20250805T050404Z
UID:2853-1653348720-1653348720@castschools.com
SUMMARY:Romeo and Juliet
DESCRIPTION:The Advanced Learning Academy and CAST Tech Theater Present: \nRomeo and Juliet\nLive from the ALA/CAST Tech Theater \n[maxbutton id=”5″ url=”https://castschools.com/ala-cast-tech-romeo-and-juliet/” ]
URL:https://castschools.com/calendar/romeo-and-juliet/
END:VEVENT
BEGIN:VEVENT
DTSTART;TZID=UTC:20220510T221800
DTEND;TZID=UTC:20220510T221800
DTSTAMP:20260423T181449
CREATED:20250805T050402Z
LAST-MODIFIED:20250805T050402Z
UID:2851-1652221080-1652221080@castschools.com
SUMMARY:CAST Med Loteria Night
DESCRIPTION:
URL:https://castschools.com/calendar/cast-med-loteria-night/
END:VEVENT
BEGIN:VEVENT
DTSTART;TZID=UTC:20220425T183400
DTEND;TZID=UTC:20220425T183400
DTSTAMP:20260423T181449
CREATED:20250805T050400Z
LAST-MODIFIED:20250805T050400Z
UID:2850-1650911640-1650911640@castschools.com
SUMMARY:RockIT into the Future Science Festival at CAST Med
DESCRIPTION:Time to RockIT!\nGirls Inc. of San Antonio is gearing up for the 16th annual celebration of STEM at CAST Med High School. This is a free event for everyone to enjoy! \nJoin in on all the fun: \n\nSTEM activities\nTop-tier speakers\nFood Trucks\nMusic\nHands-on demonstrations\nOpportunities to win Girls Inc. swag \n\nWhen: Saturday\, May 21st 2022 | 9am – 2pm \nWhere: CAST Med High School
URL:https://castschools.com/calendar/rockit-into-the-future-science-festival-at-cast-med/
END:VEVENT
BEGIN:VEVENT
DTSTART;TZID=UTC:20220419T152000
DTEND;TZID=UTC:20220419T152000
DTSTAMP:20260423T181449
CREATED:20250805T050355Z
LAST-MODIFIED:20250805T050355Z
UID:2849-1650381600-1650381600@castschools.com
SUMMARY:CAST Teach Family Picnic
DESCRIPTION:You are invited to our CAST Teach Family Picnic! Join us for a day full of fun activities\, meet the incoming class\, and connect with parents and the CAST Teach team. \nPlease RSVP here \nWhen: Saturday April 23rd\, 2022 | 11AM – 2PM \nWhere: Stevens High School located at 600 N. Ellison Dr\, 78251 \n  \n  \n 
URL:https://castschools.com/calendar/cast-teach-family-picnic/
END:VEVENT
BEGIN:VEVENT
DTSTART;TZID=UTC:20220407T203700
DTEND;TZID=UTC:20220407T203700
DTSTAMP:20260423T181449
CREATED:20250805T050337Z
LAST-MODIFIED:20250805T050337Z
UID:2848-1649363820-1649363820@castschools.com
SUMMARY:CAST Champion Honors
DESCRIPTION:Join us as we honor our CAST Champions!\nCreated in 2021\, the CAST Champion Honors recognizes individuals who have provided tremendous support for our students and schools throughout the school year while celebrating the inaugural graduating class from CAST STEM High School. \n Schedule: \n\nEvent: 4:00PM – 6:30PM\nStudent Showcase: 4:00PM – 5:30PM – students will display projects they created during events such as Speak Up Speak Out and the Youth Rally.\nShowcase Wrap-Up and Transition: 5:00PM – 5:30PM\nCAST Champions Presentation Ceremony: 5:30PM – 6:30PM\n\nLight snacks and beverages will be provided throughout the event\n\n\n\n  \nRSVP Deadline: Please RSVP here before April 20th.
URL:https://castschools.com/calendar/cast-champion-honors/
END:VEVENT
BEGIN:VEVENT
DTSTART;TZID=UTC:20220407T033100
DTEND;TZID=UTC:20220407T033100
DTSTAMP:20260423T181449
CREATED:20250805T050335Z
LAST-MODIFIED:20250805T050335Z
UID:2847-1649302260-1649302260@castschools.com
SUMMARY:CAST STEM Welcome Day
DESCRIPTION:Join us for Welcome Day at CAST STEM High School\nTuesday\, April 12th\n5:30-7:00 p.m.\nCAST STEM High School \nAre you currently in 8th or 9th grade and looking for a new high school experience\, join us for Welcome Day at CAST STEM \nEnjoy a tour\, dinner snacks\, and learn from students and parents of CAST STEM. \nCAST STEM High School is a small\, innovative high school in Southwest ISD. Our scholars work closely with our facilitators (teachers) and our community & industry partners to build solutions to real-world problems. Students apply as strangers and become friends with a new community of learners. Every student creates a learning path that leads to graduation with a distinguished level of achievement\, college credit\, industry-recognized certifications\, and support to succeed in a career beyond high school. \nDress comfortably for fun rotations and bring a friend or two with you. \nClick Here to RSVP\n Now accepting incoming 9th and 10th-grade students for the 2022-2023 school year. \n  \n 
URL:https://castschools.com/calendar/cast-stem-welcome-day/
END:VEVENT
BEGIN:VEVENT
DTSTART;TZID=UTC:20220328T022800
DTEND;TZID=UTC:20220328T022800
DTSTAMP:20260423T181449
CREATED:20250805T050334Z
LAST-MODIFIED:20250805T050334Z
UID:2846-1648434480-1648434480@castschools.com
SUMMARY:A Night in Old John Glenn with CAST Lead High School
DESCRIPTION:You’re invited to a Night in Old John Glenn with CAST Lead High School\n\nJoin current and prospective CAST Lead students\, parents\, industry and higher education partners\, and the East Central community for a night of informative events\, light refreshments\, and fun!\n\n\n\nDid you know that CAST Lead High School is adding 8th graders for the 2022-2023 school year?\n\nApplications are now being accepted for rising 7th and 8th graders.\n\nApply now at https://castlead.schoolmint.net/signin
URL:https://castschools.com/calendar/a-night-in-old-john-glenn-with-cast-lead-high-school/
END:VEVENT
BEGIN:VEVENT
DTSTART;TZID=UTC:20220324T213300
DTEND;TZID=UTC:20220324T213300
DTSTAMP:20260423T181449
CREATED:20250805T050333Z
LAST-MODIFIED:20250805T050333Z
UID:2845-1648157580-1648157580@castschools.com
SUMMARY:San Antonio ISD Campus Collaborative Art Fair - Exhibit On Display
DESCRIPTION:Exhibit on Display: 10 a.m. – 5 p.m.\nFriday\, March 25 – Friday\, April 8\, 2022\nAfter a year of hybrid learning\, students and teachers in SAISD are pleased to showcase their best work from the 2021-2022 school year. This exhibit includes artwork from Advanced Learning Academy\, CAST Med and CAST Tech in addition to Cooper Academy at Navarro\, Fox Tech HS\, St. Phillips ECHS\, Steele Academy\, Travis ECHS\, Young Women’s Leadership Academy\, YWLA Primary\, and Young Men’s Leadership Academy.
URL:https://castschools.com/calendar/san-antonio-isd-campus-collaborative-art-fair-exhibit-on-display-15/
END:VEVENT
BEGIN:VEVENT
DTSTART;TZID=UTC:20220324T213300
DTEND;TZID=UTC:20220324T213300
DTSTAMP:20260423T181449
CREATED:20250805T050332Z
LAST-MODIFIED:20250805T050332Z
UID:2844-1648157580-1648157580@castschools.com
SUMMARY:San Antonio ISD Campus Collaborative Art Fair - Exhibit On Display
DESCRIPTION:Exhibit on Display: 10 a.m. – 5 p.m.\nFriday\, March 25 – Friday\, April 8\, 2022\nAfter a year of hybrid learning\, students and teachers in SAISD are pleased to showcase their best work from the 2021-2022 school year. This exhibit includes artwork from Advanced Learning Academy\, CAST Med and CAST Tech in addition to Cooper Academy at Navarro\, Fox Tech HS\, St. Phillips ECHS\, Steele Academy\, Travis ECHS\, Young Women’s Leadership Academy\, YWLA Primary\, and Young Men’s Leadership Academy.
URL:https://castschools.com/calendar/san-antonio-isd-campus-collaborative-art-fair-exhibit-on-display-14/
END:VEVENT
BEGIN:VEVENT
DTSTART;TZID=UTC:20220324T213300
DTEND;TZID=UTC:20220324T213300
DTSTAMP:20260423T181449
CREATED:20250805T050316Z
LAST-MODIFIED:20250805T050316Z
UID:2843-1648157580-1648157580@castschools.com
SUMMARY:San Antonio ISD Campus Collaborative Art Fair - Exhibit On Display
DESCRIPTION:Exhibit on Display: 10 a.m. – 5 p.m.\nFriday\, March 25 – Friday\, April 8\, 2022\nAfter a year of hybrid learning\, students and teachers in SAISD are pleased to showcase their best work from the 2021-2022 school year. This exhibit includes artwork from Advanced Learning Academy\, CAST Med and CAST Tech in addition to Cooper Academy at Navarro\, Fox Tech HS\, St. Phillips ECHS\, Steele Academy\, Travis ECHS\, Young Women’s Leadership Academy\, YWLA Primary\, and Young Men’s Leadership Academy.
URL:https://castschools.com/calendar/san-antonio-isd-campus-collaborative-art-fair-exhibit-on-display-13/
END:VEVENT
BEGIN:VEVENT
DTSTART;TZID=UTC:20220324T213300
DTEND;TZID=UTC:20220324T213300
DTSTAMP:20260423T181449
CREATED:20250805T050315Z
LAST-MODIFIED:20250805T050315Z
UID:2842-1648157580-1648157580@castschools.com
SUMMARY:San Antonio ISD Campus Collaborative Art Fair - Exhibit On Display
DESCRIPTION:Exhibit on Display: 10 a.m. – 5 p.m.\nFriday\, March 25 – Friday\, April 8\, 2022\nAfter a year of hybrid learning\, students and teachers in SAISD are pleased to showcase their best work from the 2021-2022 school year. This exhibit includes artwork from Advanced Learning Academy\, CAST Med and CAST Tech in addition to Cooper Academy at Navarro\, Fox Tech HS\, St. Phillips ECHS\, Steele Academy\, Travis ECHS\, Young Women’s Leadership Academy\, YWLA Primary\, and Young Men’s Leadership Academy.
URL:https://castschools.com/calendar/san-antonio-isd-campus-collaborative-art-fair-exhibit-on-display-12/
END:VEVENT
BEGIN:VEVENT
DTSTART;TZID=UTC:20220324T213300
DTEND;TZID=UTC:20220324T213300
DTSTAMP:20260423T181449
CREATED:20250805T050314Z
LAST-MODIFIED:20250805T050314Z
UID:2841-1648157580-1648157580@castschools.com
SUMMARY:San Antonio ISD Campus Collaborative Art Fair - Exhibit On Display
DESCRIPTION:Exhibit on Display: 10 a.m. – 5 p.m.\nFriday\, March 25 – Friday\, April 8\, 2022\nAfter a year of hybrid learning\, students and teachers in SAISD are pleased to showcase their best work from the 2021-2022 school year. This exhibit includes artwork from Advanced Learning Academy\, CAST Med and CAST Tech in addition to Cooper Academy at Navarro\, Fox Tech HS\, St. Phillips ECHS\, Steele Academy\, Travis ECHS\, Young Women’s Leadership Academy\, YWLA Primary\, and Young Men’s Leadership Academy.
URL:https://castschools.com/calendar/san-antonio-isd-campus-collaborative-art-fair-exhibit-on-display-11/
END:VEVENT
BEGIN:VEVENT
DTSTART;TZID=UTC:20220324T213300
DTEND;TZID=UTC:20220324T213300
DTSTAMP:20260423T181449
CREATED:20250805T050313Z
LAST-MODIFIED:20250805T050313Z
UID:2840-1648157580-1648157580@castschools.com
SUMMARY:San Antonio ISD Campus Collaborative Art Fair - Exhibit On Display
DESCRIPTION:Exhibit on Display: 10 a.m. – 5 p.m.\nFriday\, March 25 – Friday\, April 8\, 2022\nAfter a year of hybrid learning\, students and teachers in SAISD are pleased to showcase their best work from the 2021-2022 school year. This exhibit includes artwork from Advanced Learning Academy\, CAST Med and CAST Tech in addition to Cooper Academy at Navarro\, Fox Tech HS\, St. Phillips ECHS\, Steele Academy\, Travis ECHS\, Young Women’s Leadership Academy\, YWLA Primary\, and Young Men’s Leadership Academy.
URL:https://castschools.com/calendar/san-antonio-isd-campus-collaborative-art-fair-exhibit-on-display-10/
END:VEVENT
BEGIN:VEVENT
DTSTART;TZID=UTC:20220324T213300
DTEND;TZID=UTC:20220324T213300
DTSTAMP:20260423T181449
CREATED:20250805T050311Z
LAST-MODIFIED:20250805T050311Z
UID:2839-1648157580-1648157580@castschools.com
SUMMARY:San Antonio ISD Campus Collaborative Art Fair - Exhibit On Display
DESCRIPTION:Exhibit on Display: 10 a.m. – 5 p.m.\nFriday\, March 25 – Friday\, April 8\, 2022\nAfter a year of hybrid learning\, students and teachers in SAISD are pleased to showcase their best work from the 2021-2022 school year. This exhibit includes artwork from Advanced Learning Academy\, CAST Med and CAST Tech in addition to Cooper Academy at Navarro\, Fox Tech HS\, St. Phillips ECHS\, Steele Academy\, Travis ECHS\, Young Women’s Leadership Academy\, YWLA Primary\, and Young Men’s Leadership Academy.
URL:https://castschools.com/calendar/san-antonio-isd-campus-collaborative-art-fair-exhibit-on-display-9/
END:VEVENT
BEGIN:VEVENT
DTSTART;TZID=UTC:20220324T213300
DTEND;TZID=UTC:20220324T213300
DTSTAMP:20260423T181449
CREATED:20250805T050300Z
LAST-MODIFIED:20250805T050300Z
UID:2838-1648157580-1648157580@castschools.com
SUMMARY:San Antonio ISD Campus Collaborative Art Fair - Exhibit On Display
DESCRIPTION:Exhibit on Display: 10 a.m. – 5 p.m.\nFriday\, March 25 – Friday\, April 8\, 2022\nAfter a year of hybrid learning\, students and teachers in SAISD are pleased to showcase their best work from the 2021-2022 school year. This exhibit includes artwork from Advanced Learning Academy\, CAST Med and CAST Tech in addition to Cooper Academy at Navarro\, Fox Tech HS\, St. Phillips ECHS\, Steele Academy\, Travis ECHS\, Young Women’s Leadership Academy\, YWLA Primary\, and Young Men’s Leadership Academy.
URL:https://castschools.com/calendar/san-antonio-isd-campus-collaborative-art-fair-exhibit-on-display-8/
END:VEVENT
BEGIN:VEVENT
DTSTART;TZID=UTC:20220324T213300
DTEND;TZID=UTC:20220324T213300
DTSTAMP:20260423T181449
CREATED:20250805T050259Z
LAST-MODIFIED:20250805T050259Z
UID:2837-1648157580-1648157580@castschools.com
SUMMARY:San Antonio ISD Campus Collaborative Art Fair - Exhibit On Display
DESCRIPTION:Exhibit on Display: 10 a.m. – 5 p.m.\nFriday\, March 25 – Friday\, April 8\, 2022\nAfter a year of hybrid learning\, students and teachers in SAISD are pleased to showcase their best work from the 2021-2022 school year. This exhibit includes artwork from Advanced Learning Academy\, CAST Med and CAST Tech in addition to Cooper Academy at Navarro\, Fox Tech HS\, St. Phillips ECHS\, Steele Academy\, Travis ECHS\, Young Women’s Leadership Academy\, YWLA Primary\, and Young Men’s Leadership Academy.
URL:https://castschools.com/calendar/san-antonio-isd-campus-collaborative-art-fair-exhibit-on-display-7/
END:VEVENT
BEGIN:VEVENT
DTSTART;TZID=UTC:20220324T213300
DTEND;TZID=UTC:20220324T213300
DTSTAMP:20260423T181449
CREATED:20250805T050258Z
LAST-MODIFIED:20250805T050258Z
UID:2836-1648157580-1648157580@castschools.com
SUMMARY:San Antonio ISD Campus Collaborative Art Fair - Exhibit On Display
DESCRIPTION:Exhibit on Display: 10 a.m. – 5 p.m.\nFriday\, March 25 – Friday\, April 8\, 2022\nAfter a year of hybrid learning\, students and teachers in SAISD are pleased to showcase their best work from the 2021-2022 school year. This exhibit includes artwork from Advanced Learning Academy\, CAST Med and CAST Tech in addition to Cooper Academy at Navarro\, Fox Tech HS\, St. Phillips ECHS\, Steele Academy\, Travis ECHS\, Young Women’s Leadership Academy\, YWLA Primary\, and Young Men’s Leadership Academy.
URL:https://castschools.com/calendar/san-antonio-isd-campus-collaborative-art-fair-exhibit-on-display-6/
END:VEVENT
BEGIN:VEVENT
DTSTART;TZID=UTC:20220324T213300
DTEND;TZID=UTC:20220324T213300
DTSTAMP:20260423T181449
CREATED:20250805T050257Z
LAST-MODIFIED:20250805T050257Z
UID:2835-1648157580-1648157580@castschools.com
SUMMARY:San Antonio ISD Campus Collaborative Art Fair - Exhibit On Display
DESCRIPTION:Exhibit on Display: 10 a.m. – 5 p.m.\nFriday\, March 25 – Friday\, April 8\, 2022\nAfter a year of hybrid learning\, students and teachers in SAISD are pleased to showcase their best work from the 2021-2022 school year. This exhibit includes artwork from Advanced Learning Academy\, CAST Med and CAST Tech in addition to Cooper Academy at Navarro\, Fox Tech HS\, St. Phillips ECHS\, Steele Academy\, Travis ECHS\, Young Women’s Leadership Academy\, YWLA Primary\, and Young Men’s Leadership Academy.
URL:https://castschools.com/calendar/san-antonio-isd-campus-collaborative-art-fair-exhibit-on-display-5/
END:VEVENT
BEGIN:VEVENT
DTSTART;TZID=UTC:20220324T213300
DTEND;TZID=UTC:20220324T213300
DTSTAMP:20260423T181449
CREATED:20250805T050256Z
LAST-MODIFIED:20250805T050256Z
UID:2834-1648157580-1648157580@castschools.com
SUMMARY:San Antonio ISD Campus Collaborative Art Fair - Exhibit On Display
DESCRIPTION:Exhibit on Display: 10 a.m. – 5 p.m.\nFriday\, March 25 – Friday\, April 8\, 2022\nAfter a year of hybrid learning\, students and teachers in SAISD are pleased to showcase their best work from the 2021-2022 school year. This exhibit includes artwork from Advanced Learning Academy\, CAST Med and CAST Tech in addition to Cooper Academy at Navarro\, Fox Tech HS\, St. Phillips ECHS\, Steele Academy\, Travis ECHS\, Young Women’s Leadership Academy\, YWLA Primary\, and Young Men’s Leadership Academy.
URL:https://castschools.com/calendar/san-antonio-isd-campus-collaborative-art-fair-exhibit-on-display-4/
END:VEVENT
BEGIN:VEVENT
DTSTART;TZID=UTC:20220324T213300
DTEND;TZID=UTC:20220324T213300
DTSTAMP:20260423T181449
CREATED:20250805T050248Z
LAST-MODIFIED:20250805T050248Z
UID:2833-1648157580-1648157580@castschools.com
SUMMARY:San Antonio ISD Campus Collaborative Art Fair - Exhibit On Display
DESCRIPTION:Exhibit on Display: 10 a.m. – 5 p.m.\nFriday\, March 25 – Friday\, April 8\, 2022\nAfter a year of hybrid learning\, students and teachers in SAISD are pleased to showcase their best work from the 2021-2022 school year. This exhibit includes artwork from Advanced Learning Academy\, CAST Med and CAST Tech in addition to Cooper Academy at Navarro\, Fox Tech HS\, St. Phillips ECHS\, Steele Academy\, Travis ECHS\, Young Women’s Leadership Academy\, YWLA Primary\, and Young Men’s Leadership Academy.
URL:https://castschools.com/calendar/san-antonio-isd-campus-collaborative-art-fair-exhibit-on-display-3/
END:VEVENT
BEGIN:VEVENT
DTSTART;TZID=UTC:20220324T213300
DTEND;TZID=UTC:20220324T213300
DTSTAMP:20260423T181449
CREATED:20250805T050247Z
LAST-MODIFIED:20250805T050247Z
UID:2832-1648157580-1648157580@castschools.com
SUMMARY:San Antonio ISD Campus Collaborative Art Fair - Exhibit On Display
DESCRIPTION:Exhibit on Display: 10 a.m. – 5 p.m.\nFriday\, March 25 – Friday\, April 8\, 2022\nAfter a year of hybrid learning\, students and teachers in SAISD are pleased to showcase their best work from the 2021-2022 school year. This exhibit includes artwork from Advanced Learning Academy\, CAST Med and CAST Tech in addition to Cooper Academy at Navarro\, Fox Tech HS\, St. Phillips ECHS\, Steele Academy\, Travis ECHS\, Young Women’s Leadership Academy\, YWLA Primary\, and Young Men’s Leadership Academy.
URL:https://castschools.com/calendar/san-antonio-isd-campus-collaborative-art-fair-exhibit-on-display-2/
END:VEVENT
BEGIN:VEVENT
DTSTART;TZID=UTC:20220324T213300
DTEND;TZID=UTC:20220324T213300
DTSTAMP:20260423T181449
CREATED:20250805T050245Z
LAST-MODIFIED:20250805T050245Z
UID:2831-1648157580-1648157580@castschools.com
SUMMARY:San Antonio ISD Campus Collaborative Art Fair - Exhibit On Display
DESCRIPTION:Exhibit on Display: 10 a.m. – 5 p.m.\nFriday\, March 25 – Friday\, April 8\, 2022\nAfter a year of hybrid learning\, students and teachers in SAISD are pleased to showcase their best work from the 2021-2022 school year. This exhibit includes artwork from Advanced Learning Academy\, CAST Med and CAST Tech in addition to Cooper Academy at Navarro\, Fox Tech HS\, St. Phillips ECHS\, Steele Academy\, Travis ECHS\, Young Women’s Leadership Academy\, YWLA Primary\, and Young Men’s Leadership Academy.
URL:https://castschools.com/calendar/san-antonio-isd-campus-collaborative-art-fair-exhibit-on-display/
END:VEVENT
END:VCALENDAR