BEGIN:VCALENDAR
VERSION:2.0
PRODID:-//Cast Schools - ECPv6.15.17.1//NONSGML v1.0//EN
CALSCALE:GREGORIAN
METHOD:PUBLISH
X-ORIGINAL-URL:https://castschools.com
X-WR-CALDESC:Events for Cast Schools
REFRESH-INTERVAL;VALUE=DURATION:PT1H
X-Robots-Tag:noindex
X-PUBLISHED-TTL:PT1H
BEGIN:VTIMEZONE
TZID:UTC
BEGIN:STANDARD
TZOFFSETFROM:+0000
TZOFFSETTO:+0000
TZNAME:UTC
DTSTART:19690101T000000
END:STANDARD
END:VTIMEZONE
BEGIN:VEVENT
DTSTART;TZID=UTC:20211008T025200
DTEND;TZID=UTC:20211008T025200
DTSTAMP:20260424T025824
CREATED:20250805T050036Z
LAST-MODIFIED:20250805T050036Z
UID:2798-1633661520-1633661520@castschools.com
SUMMARY:CAST Tech High School In-Person Information Sessions
DESCRIPTION:CAST Tech Information Sessions are for prospective students and their parents for the 2022-2023 School. Seating will be limited for the in-person sessions due to COVID-19 safety protocols. \nInformation sessions generally include: \n\nAn overview of what makes CAST Tech High School the leading tech school in the San Antonio\nTour of the school\nQuestion and answer session with current students\nApplication and Enrollment process\n\nWe look forward to seeing you on campus! \nRegister here to reserve a spot:
URL:https://castschools.com/calendar/cast-tech-high-school-in-person-information-sessions-4/
END:VEVENT
BEGIN:VEVENT
DTSTART;TZID=UTC:20211008T025200
DTEND;TZID=UTC:20211008T025200
DTSTAMP:20260424T025824
CREATED:20250805T050033Z
LAST-MODIFIED:20250805T050033Z
UID:2797-1633661520-1633661520@castschools.com
SUMMARY:CAST Tech High School In-Person Information Sessions
DESCRIPTION:CAST Tech Information Sessions are for prospective students and their parents for the 2022-2023 School. Seating will be limited for the in-person sessions due to COVID-19 safety protocols. \nInformation sessions generally include: \n\nAn overview of what makes CAST Tech High School the leading tech school in the San Antonio\nTour of the school\nQuestion and answer session with current students\nApplication and Enrollment process\n\nWe look forward to seeing you on campus! \nRegister here to reserve a spot:
URL:https://castschools.com/calendar/cast-tech-high-school-in-person-information-sessions-3/
END:VEVENT
BEGIN:VEVENT
DTSTART;TZID=UTC:20211008T025200
DTEND;TZID=UTC:20211008T025200
DTSTAMP:20260424T025824
CREATED:20250805T050032Z
LAST-MODIFIED:20250805T050032Z
UID:2796-1633661520-1633661520@castschools.com
SUMMARY:CAST Tech High School In-Person Information Sessions
DESCRIPTION:CAST Tech Information Sessions are for prospective students and their parents for the 2022-2023 School. Seating will be limited for the in-person sessions due to COVID-19 safety protocols. \nInformation sessions generally include: \n\nAn overview of what makes CAST Tech High School the leading tech school in the San Antonio\nTour of the school\nQuestion and answer session with current students\nApplication and Enrollment process\n\nWe look forward to seeing you on campus! \nRegister here to reserve a spot:
URL:https://castschools.com/calendar/cast-tech-high-school-in-person-information-sessions-2/
END:VEVENT
BEGIN:VEVENT
DTSTART;TZID=UTC:20211008T025200
DTEND;TZID=UTC:20211008T025200
DTSTAMP:20260424T025824
CREATED:20250805T050031Z
LAST-MODIFIED:20250805T050031Z
UID:2795-1633661520-1633661520@castschools.com
SUMMARY:CAST Tech High School In-Person Information Sessions
DESCRIPTION:CAST Tech Information Sessions are for prospective students and their parents for the 2022-2023 School. Seating will be limited for the in-person sessions due to COVID-19 safety protocols. \nInformation sessions generally include: \n\nAn overview of what makes CAST Tech High School the leading tech school in the San Antonio\nTour of the school\nQuestion and answer session with current students\nApplication and Enrollment process\n\nWe look forward to seeing you on campus! \nRegister here to reserve a spot:
URL:https://castschools.com/calendar/cast-tech-high-school-in-person-information-sessions/
END:VEVENT
BEGIN:VEVENT
DTSTART;TZID=UTC:20210702T164200
DTEND;TZID=UTC:20210702T164200
DTSTAMP:20260424T025824
CREATED:20250805T050029Z
LAST-MODIFIED:20250805T050029Z
UID:2794-1625244120-1625244120@castschools.com
SUMMARY:Tafolla Toro Writing Workshops
DESCRIPTION:Turn a Local Best Selling Novel Into a Full-Length Play\nStudents across the CAST Schools Network will work directly with the author of Tafolla Toro\, Three Years of Fear\, Lorenzo Gomez III.\nThis is a chance for students to build their writing experiences\, get feedback\, and explore new ways to approach writing.  Learn how to create\, be a part of a writing team\, take on character voices with your pen\, and bring this story from the page to the stage!   Become well versed in creating strong character voices\, learning how to take creative writing risks\, and working together as a production team. \nWriting workshops will be held in person and on ZOOM.
URL:https://castschools.com/calendar/tafolla-toro-writing-workshops/
END:VEVENT
BEGIN:VEVENT
DTSTART;TZID=UTC:20210702T161500
DTEND;TZID=UTC:20210702T161500
DTSTAMP:20260424T025824
CREATED:20250805T050024Z
LAST-MODIFIED:20250805T050024Z
UID:2793-1625242500-1625242500@castschools.com
SUMMARY:CAST Schools Discover U Freshman Studio
DESCRIPTION:To participate\, you must be a registered incoming freshman at the Advanced Learning Academy\, CAST Lead\, CAST Med\, CAST STEM\, and CAST Tech High School.
URL:https://castschools.com/calendar/cast-schools-discover-u-freshman-studio/
END:VEVENT
BEGIN:VEVENT
DTSTART;TZID=UTC:20260424T025824
DTEND;TZID=UTC:20260424T025824
DTSTAMP:20260424T025824
CREATED:20250805T050705Z
LAST-MODIFIED:20250805T050705Z
UID:2903-0-0@castschools.com
SUMMARY:Tour CAST Middle School
DESCRIPTION:
URL:https://castschools.com/calendar/tour-cast-middle-school/
END:VEVENT
BEGIN:VEVENT
DTSTART;TZID=UTC:20260424T025824
DTEND;TZID=UTC:20260424T025824
DTSTAMP:20260424T025824
CREATED:20250805T050628Z
LAST-MODIFIED:20250805T050628Z
UID:2891-0-0@castschools.com
SUMMARY:CAST
DESCRIPTION:
URL:https://castschools.com/calendar/cast/
END:VEVENT
BEGIN:VEVENT
DTSTART;TZID=UTC:20260424T025824
DTEND;TZID=UTC:20260424T025824
DTSTAMP:20260424T025824
CREATED:20250805T050418Z
LAST-MODIFIED:20250805T050418Z
UID:2858-0-0@castschools.com
SUMMARY:CAST Schools Summer Studio
DESCRIPTION:
URL:https://castschools.com/calendar/cast-schools-summer-studio/
END:VEVENT
BEGIN:VEVENT
DTSTART;TZID=UTC:20260424T025824
DTEND;TZID=UTC:20260424T025824
DTSTAMP:20260424T025824
CREATED:20250805T050403Z
LAST-MODIFIED:20250805T050403Z
UID:2852-0-0@castschools.com
SUMMARY:Advanced Learning Academy and CAST Tech Present Romeo and Juliet
DESCRIPTION:
URL:https://castschools.com/calendar/advanced-learning-academy-and-cast-tech-present-romeo-and-juliet/
END:VEVENT
BEGIN:VEVENT
DTSTART;TZID=UTC:20260424T025824
DTEND;TZID=UTC:20260424T025824
DTSTAMP:20260424T025824
CREATED:20250805T050239Z
LAST-MODIFIED:20250805T050239Z
UID:2829-0-0@castschools.com
SUMMARY:San Antonio  ISD Campus Collaborative Art Fair 2022 Opening Reception
DESCRIPTION:
URL:https://castschools.com/calendar/san-antonio-isd-campus-collaborative-art-fair-2022-opening-reception/
END:VEVENT
END:VCALENDAR